BEGIN:VCALENDAR
VERSION:2.0
PRODID:-//Squarespace Inc/Squarespace 6//v6//EN
BEGIN:VEVENT
UID:5790281ef7e0ab400e841999@squarespace.com
DTSTAMP:20160721T014235Z
DTSTART:20161014T220000Z
DTEND:20161015T050000Z
SUMMARY:Kylie Burton Clinic
END:VEVENT
END:VCALENDAR
