BEGIN:VCALENDAR
VERSION:2.0
PRODID:-//Squarespace Inc/Squarespace 6//v6//EN
BEGIN:VEVENT
UID:5790294b1b631be8a79d4459@squarespace.com
DTSTAMP:20160906T234215Z
DTSTART:20161001T220000Z
DTEND:20161003T063000Z
SUMMARY:Nicole Tough Clinic
END:VEVENT
END:VCALENDAR
