BEGIN:VCALENDAR
VERSION:2.0
PRODID:-//Squarespace Inc/Squarespace 6//v6//EN
BEGIN:VEVENT
UID:5798043046c3c418d024c6b1@squarespace.com
DTSTAMP:20160727T004745Z
DTSTART:20161022T220000Z
DTEND:20161023T050000Z
SUMMARY:Michelle Despax - Harmony EC
END:VEVENT
END:VCALENDAR
