BEGIN:VCALENDAR
VERSION:2.0
PRODID:-//Squarespace Inc/Squarespace 6//v6//EN
BEGIN:VEVENT
UID:578f35c8725e25ebc4198118@squarespace.com
DTSTAMP:20160720T082934Z
DTSTART:20161007T220000Z
DTEND:20161008T053000Z
SUMMARY:Suzy Walker Clinic
END:VEVENT
END:VCALENDAR
