BEGIN:VCALENDAR
VERSION:2.0
PRODID:-//Squarespace Inc/Squarespace 6//v6//EN
BEGIN:VEVENT
UID:57902754197aea34c4038f36@squarespace.com
DTSTAMP:20160721T014005Z
DTSTART:20161008T220000Z
DTEND:20161009T040000Z
SUMMARY:Oliver Evans Clinic - Harmony ARC
END:VEVENT
END:VCALENDAR
