BEGIN:VCALENDAR
VERSION:2.0
PRODID:-//Squarespace Inc/Squarespace 6//v6//EN
BEGIN:VEVENT
UID:579805e8725e25e0248c4daf@squarespace.com
DTSTAMP:20160727T005425Z
DTSTART:20161111T220000Z
DTEND:20161112T050000Z
SUMMARY:Kylie Burton Clinic
END:VEVENT
END:VCALENDAR
