BEGIN:VCALENDAR
VERSION:2.0
PRODID:-//Squarespace Inc/Squarespace 6//v6//EN
BEGIN:VEVENT
UID:579807a0bebafbc5fdbbe610@squarespace.com
DTSTAMP:20160727T010202Z
DTSTART:20161126T213000Z
DTEND:20161127T053000Z
SUMMARY:Michelle Despax Clinic - Harmony EC
END:VEVENT
END:VCALENDAR
