BEGIN:VCALENDAR
VERSION:2.0
PRODID:-//Squarespace Inc/Squarespace 6//v6//EN
BEGIN:VEVENT
UID:57980507440243d2acf9fba0@squarespace.com
DTSTAMP:20160830T002742Z
DTSTART:20161102T210000Z
DTEND:20161104T070000Z
SUMMARY:Nicole Tough Clinic
END:VEVENT
END:VCALENDAR
