BEGIN:VCALENDAR
VERSION:2.0
PRODID:-//Squarespace Inc/Squarespace 6//v6//EN
BEGIN:VEVENT
UID:5798072b725e25e0248c5996@squarespace.com
DTSTAMP:20160727T005959Z
DTSTART:20161209T220000Z
DTEND:20161210T050000Z
SUMMARY:Kylie Burton Clinic
END:VEVENT
END:VCALENDAR
