BEGIN:VCALENDAR
VERSION:2.0
PRODID:-//Squarespace Inc/Squarespace 6//v6//EN
BEGIN:VEVENT
UID:5798081a9de4bbee497f3972@squarespace.com
DTSTAMP:20160727T010339Z
DTSTART:20161210T213000Z
DTEND:20161211T053000Z
SUMMARY:Oliver Evans Clinic - Harmony EC
END:VEVENT
END:VCALENDAR
