BEGIN:VCALENDAR
VERSION:2.0
PRODID:-//Squarespace Inc/Squarespace 6//v6//EN
BEGIN:VEVENT
UID:57980571b3db2b69ea803a2d@squarespace.com
DTSTAMP:20160727T005243Z
DTSTART:20161202T220000Z
DTEND:20161203T060000Z
SUMMARY:Suzy Walker Clinic
END:VEVENT
END:VCALENDAR
