BEGIN:VCALENDAR
VERSION:2.0
PRODID:-//Squarespace Inc/Squarespace 6//v6//EN
BEGIN:VEVENT
UID:5798064ef5e231d942a3365a@squarespace.com
DTSTAMP:20160830T002821Z
DTSTART:20161205T210000Z
DTEND:20161207T070000Z
SUMMARY:Nicole Tough Clinic
END:VEVENT
END:VCALENDAR
