BEGIN:VCALENDAR
VERSION:2.0
PRODID:-//Squarespace Inc/Squarespace 6//v6//EN
BEGIN:VEVENT
UID:572443fb2b8dde53fd03691f@squarespace.com
DTSTAMP:20160430T063728Z
DTSTART:20160430T060000Z
DTEND:20160430T070000Z
SUMMARY:Kylie Burton
END:VEVENT
END:VCALENDAR
