BEGIN:VCALENDAR
VERSION:2.0
PRODID:-//Squarespace Inc/Squarespace 6//v6//EN
BEGIN:VEVENT
UID:5723dd17a3360ce750920379@squarespace.com
DTSTAMP:20160429T221652Z
DTSTART:20160516T223000Z
DTEND:20160516T233000Z
SUMMARY:Nicole Tough Clinic
END:VEVENT
END:VCALENDAR
