BEGIN:VCALENDAR
VERSION:2.0
PRODID:-//Squarespace Inc/Squarespace 6//v6//EN
BEGIN:VEVENT
UID:5723dd62c6fc08d7200eeb75@squarespace.com
DTSTAMP:20160430T063747Z
DTSTART:20160518T223000Z
DTEND:20160518T233000Z
SUMMARY:Selina Brendish 
END:VEVENT
END:VCALENDAR
