BEGIN:VCALENDAR
VERSION:2.0
PRODID:-//Squarespace Inc/Squarespace 6//v6//EN
BEGIN:VEVENT
UID:57259188c6fc08d72017111f@squarespace.com
DTSTAMP:20160501T051840Z
DTSTART:20160526T053000Z
DTEND:20160526T063000Z
SUMMARY:Sussan
END:VEVENT
END:VCALENDAR
