BEGIN:VCALENDAR
VERSION:2.0
PRODID:-//Squarespace Inc/Squarespace 6//v6//EN
BEGIN:VEVENT
UID:572443c02b8dde53fd03683c@squarespace.com
DTSTAMP:20160430T063758Z
DTSTART:20160530T060000Z
DTEND:20160530T070000Z
SUMMARY:Kylie Burton Clinic
END:VEVENT
END:VCALENDAR
