BEGIN:VCALENDAR
VERSION:2.0
PRODID:-//Squarespace Inc/Squarespace 6//v6//EN
BEGIN:VEVENT
UID:578b0c98d2b85738b5d2b6f9@squarespace.com
DTSTAMP:20160719T001522Z
DTSTART:20160723T230000Z
DTEND:20160724T050000Z
SUMMARY:Harmony ARC
END:VEVENT
END:VCALENDAR
