BEGIN:VCALENDAR
VERSION:2.0
PRODID:-//Squarespace Inc/Squarespace 6//v6//EN
BEGIN:VEVENT
UID:578b0db337c581632862a9ba@squarespace.com
DTSTAMP:20160719T001630Z
DTSTART:20160724T230000Z
DTEND:20160726T080000Z
SUMMARY:Nicole Tough Clinic
END:VEVENT
END:VCALENDAR
