BEGIN:VCALENDAR
VERSION:2.0
PRODID:-//Squarespace Inc/Squarespace 6//v6//EN
BEGIN:VEVENT
UID:578b0fc9f5e231074e97eaf9@squarespace.com
DTSTAMP:20160719T004409Z
DTSTART:20160812T230000Z
DTEND:20160813T060000Z
SUMMARY:Suzy Walker Clinic
END:VEVENT
END:VCALENDAR
