BEGIN:VCALENDAR
VERSION:2.0
PRODID:-//Squarespace Inc/Squarespace 6//v6//EN
BEGIN:VEVENT
UID:578d726729687f525efd23bf@squarespace.com
DTSTAMP:20160830T002506Z
DTSTART:20160813T223000Z
DTEND:20160815T073000Z
SUMMARY:Nicole Tough Clinic
END:VEVENT
END:VCALENDAR
