BEGIN:VCALENDAR
VERSION:2.0
PRODID:-//Squarespace Inc/Squarespace 6//v6//EN
BEGIN:VEVENT
UID:578d74328419c2a59d953ef9@squarespace.com
DTSTAMP:20160719T003048Z
DTSTART:20160819T230000Z
DTEND:20160820T060000Z
SUMMARY:Kylie Burton Clinic
END:VEVENT
END:VCALENDAR
