BEGIN:VCALENDAR
VERSION:2.0
PRODID:-//Squarespace Inc/Squarespace 6//v6//EN
BEGIN:VEVENT
UID:578d757e6b8f5bebe7f41ef4@squarespace.com
DTSTAMP:20160719T003723Z
DTSTART:20160827T230000Z
DTEND:20160828T060000Z
SUMMARY:Michelle Despax Clinic - Harmony ARC
END:VEVENT
END:VCALENDAR
