BEGIN:VCALENDAR
VERSION:2.0
PRODID:-//Squarespace Inc/Squarespace 6//v6//EN
BEGIN:VEVENT
UID:578b0e24d482e9c5cd56d24e@squarespace.com
DTSTAMP:20160719T001412Z
DTSTART:20160806T230000Z
DTEND:20160807T050000Z
SUMMARY:Harmony ARC
END:VEVENT
END:VCALENDAR
