BEGIN:VCALENDAR
VERSION:2.0
PRODID:-//Squarespace Inc/Squarespace 6//v6//EN
BEGIN:VEVENT
UID:578d76c7579fb3d7cbdf6b6b@squarespace.com
DTSTAMP:20160719T004142Z
DTSTART:20160909T230000Z
DTEND:20160910T060000Z
SUMMARY:Oliver Evans Clinic - Harmony ARC
END:VEVENT
END:VCALENDAR
