BEGIN:VCALENDAR
VERSION:2.0
PRODID:-//Squarespace Inc/Squarespace 6//v6//EN
BEGIN:VEVENT
UID:578d77f9cd0f6867352b8497@squarespace.com
DTSTAMP:20160719T004621Z
DTSTART:20160910T230000Z
DTEND:20160912T073000Z
SUMMARY:Nicole Tough Clinic
END:VEVENT
END:VCALENDAR
