BEGIN:VCALENDAR
VERSION:2.0
PRODID:-//Squarespace Inc/Squarespace 6//v6//EN
BEGIN:VEVENT
UID:578f336e15d5db7814d02509@squarespace.com
DTSTAMP:20160720T082142Z
DTSTART:20160916T230000Z
DTEND:20160917T070000Z
SUMMARY:Kylie Burton Clinic
END:VEVENT
END:VCALENDAR
