BEGIN:VCALENDAR
VERSION:2.0
PRODID:-//Squarespace Inc/Squarespace 6//v6//EN
BEGIN:VEVENT
UID:57b6515f20099ebf80b3c0b3@squarespace.com
DTSTAMP:20160819T002432Z
DTSTART:20160923T230000Z
DTEND:20160924T063000Z
SUMMARY:Suzy Walker Clinic
END:VEVENT
END:VCALENDAR
