BEGIN:VCALENDAR
VERSION:2.0
PRODID:-//Squarespace Inc/Squarespace 6//v6//EN
BEGIN:VEVENT
UID:578f34c7e58c62f84ee5cb6f@squarespace.com
DTSTAMP:20160720T082449Z
DTSTART:20160924T230000Z
DTEND:20160925T050000Z
SUMMARY:Michelle Despax Clinic - Harmony ARC
END:VEVENT
END:VCALENDAR
