BEGIN:VCALENDAR
VERSION:2.0
PRODID:-//Squarespace Inc/Squarespace 6//v6//EN
BEGIN:VEVENT
UID:58ad16b7d1758e559561cf6c@squarespace.com
DTSTAMP:20170222T044501Z
DTSTART:20170211T220000Z
DTEND:20170212T043000Z
SUMMARY:Oliver Evans Clinic
END:VEVENT
END:VCALENDAR
