BEGIN:VCALENDAR
VERSION:2.0
PRODID:-//Squarespace Inc/Squarespace 6//v6//EN
BEGIN:VEVENT
UID:58ad175b414fb535237bb99a@squarespace.com
DTSTAMP:20170222T045318Z
DTSTART:20170317T220000Z
DTEND:20170318T040000Z
SUMMARY:Kylie Burton Clinic
END:VEVENT
END:VCALENDAR
