BEGIN:VCALENDAR
VERSION:2.0
PRODID:-//Squarespace Inc/Squarespace 6//v6//EN
BEGIN:VEVENT
UID:58ad16899de4bb4776386830@squarespace.com
DTSTAMP:20170222T045427Z
DTSTART:20170310T220000Z
DTEND:20170311T040000Z
SUMMARY:Suzy Walker Clinic
END:VEVENT
END:VCALENDAR
