BEGIN:VCALENDAR
VERSION:2.0
PRODID:-//Squarespace Inc/Squarespace 6//v6//EN
BEGIN:VEVENT
UID:58acacd586e6c0359f3a9bc5@squarespace.com
DTSTAMP:20170221T212007Z
DTSTART:20170224T213000Z
DTEND:20170225T043000Z
SUMMARY:Kylie Burton Clinic
END:VEVENT
END:VCALENDAR
