BEGIN:VCALENDAR
VERSION:2.0
PRODID:-//Squarespace Inc/Squarespace 6//v6//EN
BEGIN:VEVENT
UID:58acad6bff7c508f67bdf982@squarespace.com
DTSTAMP:20170221T212112Z
DTSTART:20170225T213000Z
DTEND:20170226T043000Z
SUMMARY:Michelle Despax Clinic
END:VEVENT
END:VCALENDAR
