BEGIN:VCALENDAR
VERSION:2.0
PRODID:-//Squarespace Inc/Squarespace 6//v6//EN
BEGIN:VEVENT
UID:58ad17bd29687ff3b072e33b@squarespace.com
DTSTAMP:20170222T045234Z
DTSTART:20170325T220000Z
DTEND:20170326T040000Z
SUMMARY:Michelle Despax Clinic
END:VEVENT
END:VCALENDAR
