BEGIN:VCALENDAR
VERSION:2.0
PRODID:-//Squarespace Inc/Squarespace 6//v6//EN
BEGIN:VEVENT
UID:58ad19bacd0f68a21b68a020@squarespace.com
DTSTAMP:20170222T045649Z
DTSTART:20170311T220000Z
DTEND:20170312T040000Z
SUMMARY:Oliver Evans Clinic
END:VEVENT
END:VCALENDAR
