BEGIN:VCALENDAR
VERSION:2.0
PRODID:-//Squarespace Inc/Squarespace 6//v6//EN
BEGIN:VEVENT
UID:58ad16132e69cfe4c7abdb28@squarespace.com
DTSTAMP:20170222T044130Z
DTSTART:20170304T204500Z
DTEND:20170306T070000Z
SUMMARY:Nicole Tough Clinic
END:VEVENT
END:VCALENDAR
