BEGIN:VCALENDAR
VERSION:2.0
PRODID:-//Squarespace Inc/Squarespace 6//v6//EN
BEGIN:VEVENT
UID:591569e4725e25f2cc7f7aea@squarespace.com
DTSTAMP:20170512T075547Z
DTSTART:20170513T230000Z
DTEND:20170514T020000Z
SUMMARY:Harmony Riding Club
END:VEVENT
END:VCALENDAR
