BEGIN:VCALENDAR
VERSION:2.0
PRODID:-//Squarespace Inc/Squarespace 6//v6//EN
BEGIN:VEVENT
UID:59156a97cd0f680a6d8f931f@squarespace.com
DTSTAMP:20170512T075936Z
DTSTART:20170519T230000Z
DTEND:20170520T040000Z
SUMMARY:Suzy Walker Clinic
END:VEVENT
END:VCALENDAR
