BEGIN:VCALENDAR
VERSION:2.0
PRODID:-//Squarespace Inc/Squarespace 6//v6//EN
BEGIN:VEVENT
UID:59156cc686e6c0ab6b4e1671@squarespace.com
DTSTAMP:20170512T080757Z
DTSTART:20170520T213000Z
DTEND:20170522T073000Z
SUMMARY:Nicole Tough Clinic
END:VEVENT
END:VCALENDAR
