BEGIN:VCALENDAR
VERSION:2.0
PRODID:-//Squarespace Inc/Squarespace 6//v6//EN
BEGIN:VEVENT
UID:59156dd26b8f5bb5b84cfed8@squarespace.com
DTSTAMP:20170512T081117Z
DTSTART:20170527T233000Z
DTEND:20170528T023000Z
SUMMARY:Harmony Riding Club
END:VEVENT
END:VCALENDAR
