BEGIN:VCALENDAR
VERSION:2.0
PRODID:-//Squarespace Inc/Squarespace 6//v6//EN
BEGIN:VEVENT
UID:59156f90414fb5cf0bfd53b2@squarespace.com
DTSTAMP:20170512T081902Z
DTSTART:20170609T233000Z
DTEND:20170610T043000Z
SUMMARY:Suzy Walker Clinic
END:VEVENT
END:VCALENDAR
