BEGIN:VCALENDAR
VERSION:2.0
PRODID:-//Squarespace Inc/Squarespace 6//v6//EN
BEGIN:VEVENT
UID:59157004579fb32eccd08367@squarespace.com
DTSTAMP:20170512T082211Z
DTSTART:20170610T233000Z
DTEND:20170611T043000Z
SUMMARY:Harmony Riding Club
END:VEVENT
END:VCALENDAR
