BEGIN:VCALENDAR
VERSION:2.0
PRODID:-//Squarespace Inc/Squarespace 6//v6//EN
BEGIN:VEVENT
UID:591570c2579fb32eccd088c5@squarespace.com
DTSTAMP:20170512T082447Z
DTSTART:20170616T230000Z
DTEND:20170617T043000Z
SUMMARY:Kylie Burton Clinic
END:VEVENT
END:VCALENDAR
