BEGIN:VCALENDAR
VERSION:2.0
PRODID:-//Squarespace Inc/Squarespace 6//v6//EN
BEGIN:VEVENT
UID:59700506f7e0ab9e890343dd@squarespace.com
DTSTAMP:20170720T012845Z
DTSTART:20170811T233000Z
DTEND:20170812T063000Z
SUMMARY:Suzie Walker
END:VEVENT
END:VCALENDAR
