BEGIN:VCALENDAR
VERSION:2.0
PRODID:-//Squarespace Inc/Squarespace 6//v6//EN
BEGIN:VEVENT
UID:5970075715d5db43cc0275cc@squarespace.com
DTSTAMP:20170810T030743Z
DTSTART:20170825T233000Z
DTEND:20170826T063000Z
SUMMARY:Kylie Burton Clinic
END:VEVENT
END:VCALENDAR
