BEGIN:VCALENDAR
VERSION:2.0
PRODID:-//Squarespace Inc/Squarespace 6//v6//EN
BEGIN:VEVENT
UID:597007d7e58c62a0af774bda@squarespace.com
DTSTAMP:20170720T013247Z
DTSTART:20170819T220000Z
DTEND:20170821T070000Z
SUMMARY:Nicole Tough Clinic
END:VEVENT
END:VCALENDAR
