BEGIN:VCALENDAR
VERSION:2.0
PRODID:-//Squarespace Inc/Squarespace 6//v6//EN
BEGIN:VEVENT
UID:59700b21a5790adbcb6154e6@squarespace.com
DTSTAMP:20170720T014713Z
DTSTART:20170826T230000Z
DTEND:20170827T060000Z
SUMMARY:Oliver Evans Clinic
END:VEVENT
END:VCALENDAR
