BEGIN:VCALENDAR
VERSION:2.0
PRODID:-//Squarespace Inc/Squarespace 6//v6//EN
BEGIN:VEVENT
UID:59700d5c6b8f5b3f4d53419e@squarespace.com
DTSTAMP:20170720T015623Z
DTSTART:20170909T220000Z
DTEND:20170911T070000Z
SUMMARY:Nicole Tough Clinic
END:VEVENT
END:VCALENDAR
