BEGIN:VCALENDAR
VERSION:2.0
PRODID:-//Squarespace Inc/Squarespace 6//v6//EN
BEGIN:VEVENT
UID:59700dd5c534a5014f6fbd8e@squarespace.com
DTSTAMP:20170720T015752Z
DTSTART:20170915T230000Z
DTEND:20170916T060000Z
SUMMARY:Kylie Burton Clinic
END:VEVENT
END:VCALENDAR
